BEGIN:VCALENDAR
VERSION:2.0
PRODID:-//German Shepherd Rescue of Northern California - ECPv6.15.20//NONSGML v1.0//EN
CALSCALE:GREGORIAN
METHOD:PUBLISH
X-ORIGINAL-URL:https://gsrnc.org
X-WR-CALDESC:Events for German Shepherd Rescue of Northern California
REFRESH-INTERVAL;VALUE=DURATION:PT1H
X-Robots-Tag:noindex
X-PUBLISHED-TTL:PT1H
BEGIN:VTIMEZONE
TZID:America/Los_Angeles
BEGIN:DAYLIGHT
TZOFFSETFROM:-0800
TZOFFSETTO:-0700
TZNAME:PDT
DTSTART:20250309T100000
END:DAYLIGHT
BEGIN:STANDARD
TZOFFSETFROM:-0700
TZOFFSETTO:-0800
TZNAME:PST
DTSTART:20251102T090000
END:STANDARD
BEGIN:DAYLIGHT
TZOFFSETFROM:-0800
TZOFFSETTO:-0700
TZNAME:PDT
DTSTART:20260308T100000
END:DAYLIGHT
BEGIN:STANDARD
TZOFFSETFROM:-0700
TZOFFSETTO:-0800
TZNAME:PST
DTSTART:20261101T090000
END:STANDARD
BEGIN:DAYLIGHT
TZOFFSETFROM:-0800
TZOFFSETTO:-0700
TZNAME:PDT
DTSTART:20270314T100000
END:DAYLIGHT
BEGIN:STANDARD
TZOFFSETFROM:-0700
TZOFFSETTO:-0800
TZNAME:PST
DTSTART:20271107T090000
END:STANDARD
END:VTIMEZONE
BEGIN:VEVENT
DTSTART;TZID=America/Los_Angeles:20260228T110000
DTEND;TZID=America/Los_Angeles:20260228T130000
DTSTAMP:20260421T074901
CREATED:20260121T194752Z
LAST-MODIFIED:20260225T220303Z
UID:18050-1772276400-1772283600@gsrnc.org
SUMMARY:San Jose Adoption Day
DESCRIPTION:The following dogs are scheduled to attend this Adoption Day. \nFemales Attending\nAllie is about 4 years old. She is spayed\, vaccinated\, chipped\, and ready to be adopted! She was found running loose with another dog and suffered a broken leg after being hit by a car. Her owners were located and unable to afford her surgery\, so they surrendered her to VCA East in Santa Rosa. A good Samaritan stepped in and paid for the surgery\, and the vet hospital reached out to us. She is a sweet dog who wants to be close to her people\, like in your lap. She loves to carry around toys and will chase a ball. She is potty-trained and crate-trained\, but we’re not sure she’s ever been walked on a leash before! Her foster home is working on training\, and it will be a must for her adoptive family to do the same. She had small children in her previous family and another dog. We do not know about her behavior around cats. She will do her best to mesmerize you with her soft brown eyes and talk you out of your Cheetos\, she likes them better than dog treats. Read more… \n \n  \nMales Attending\nOne-year-old Ace is fun loving and playful and has an oh so sweet temperament. He’s ready for whatever you want to do. He’ll play quietly with his toys and entertain you as he throws his Kong up in the air and tries to catch it as he bounces it around on the floor. Or go for a 3 mile walk\, let’s go! He would make a good walking or jogging partner. Then kick back and watch TV\, he enjoys that too. He wants to join you in whatever you are doing. Read more… \n \n\n  \nOso is a bright\, handsome bouncy boy – gentle mouth\, treat and toy motivated. Needs training but very smart. Read More… \n \n\nScar is a handsome\, 1-1/2 year old\, 90+ lb lap dog. He is well-behaved in the house\, potty-trained\, and can be left alone loose for a few hours (so far). He rides well in the car\, barks only occasionally\, and only chews on his toys. He has knowledge of the commands: “come”\, “sit’\, ‘down”\, “out”\, “leash’\, and knows his name. He is enthusiastic and gentle with adults\, even strangers. He hasn’t met many children yet. Read More…
URL:https://gsrnc.org/event/san-jose-adoption-day-february-2026/
LOCATION:Pet Food Express – Blossom Hill Rd\, 1152 Blossom Hill Rd\, San Jose\, CA\, 95118\, United States
END:VEVENT
END:VCALENDAR