BEGIN:VCALENDAR
VERSION:2.0
PRODID:-//German Shepherd Rescue of Northern California - ECPv6.15.20//NONSGML v1.0//EN
CALSCALE:GREGORIAN
METHOD:PUBLISH
X-ORIGINAL-URL:https://gsrnc.org
X-WR-CALDESC:Events for German Shepherd Rescue of Northern California
REFRESH-INTERVAL;VALUE=DURATION:PT1H
X-Robots-Tag:noindex
X-PUBLISHED-TTL:PT1H
BEGIN:VTIMEZONE
TZID:America/Los_Angeles
BEGIN:DAYLIGHT
TZOFFSETFROM:-0800
TZOFFSETTO:-0700
TZNAME:PDT
DTSTART:20250309T100000
END:DAYLIGHT
BEGIN:STANDARD
TZOFFSETFROM:-0700
TZOFFSETTO:-0800
TZNAME:PST
DTSTART:20251102T090000
END:STANDARD
BEGIN:DAYLIGHT
TZOFFSETFROM:-0800
TZOFFSETTO:-0700
TZNAME:PDT
DTSTART:20260308T100000
END:DAYLIGHT
BEGIN:STANDARD
TZOFFSETFROM:-0700
TZOFFSETTO:-0800
TZNAME:PST
DTSTART:20261101T090000
END:STANDARD
BEGIN:DAYLIGHT
TZOFFSETFROM:-0800
TZOFFSETTO:-0700
TZNAME:PDT
DTSTART:20270314T100000
END:DAYLIGHT
BEGIN:STANDARD
TZOFFSETFROM:-0700
TZOFFSETTO:-0800
TZNAME:PST
DTSTART:20271107T090000
END:STANDARD
END:VTIMEZONE
BEGIN:VEVENT
DTSTART;TZID=America/Los_Angeles:20260411T110000
DTEND;TZID=America/Los_Angeles:20260411T130000
DTSTAMP:20260423T180030
CREATED:20260312T045318Z
LAST-MODIFIED:20260409T041610Z
UID:18086-1775905200-1775912400@gsrnc.org
SUMMARY:Redwood City Adoption Day
DESCRIPTION:The following dogs are scheduled to attend this Adoption Day. \nMales Attending\nOne-year-old Ace is fun loving and playful and has an oh so sweet temperament. He’s ready for whatever you want to do. He’ll play quietly with his toys and entertain you as he throws his Kong up in the air and tries to catch it as he bounces it around on the floor. Or go for a 3 mile walk\, let’s go! He would make a good walking or jogging partner. Then kick back and watch TV\, he enjoys that too. He wants to join you in whatever you are doing. Read more… \n \n\nRanger and his brother Phoenix were left at Peninsula Humane Society as ill little puppies who tested positive for Parvo. Our organization agreed to take the puppies if PHS could get them healthy and parvo free. A few weeks later the puppies came to one of our foster homes and spent 5 weeks growing stronger and healthier by the day. Then it was decided the puppies needed to be separated so they could gain individual confidence. They are now in separate foster homes\, with grown up dogs and doing great. Read more… \n \n\nScar is a handsome\, 1-1/2 year old\, 90+ lb lap dog. He is well-behaved in the house\, potty-trained\, and can be left alone loose for a few hours (so far). He rides well in the car\, barks only occasionally\, and only chews on his toys. \nHe has knowledge of the commands: “come”\, “sit’\, ‘down”\, “out”\, “leash’\, and knows his name. Read more…
URL:https://gsrnc.org/event/redwood-city-adoption-day-april-2026/
LOCATION:Pet Food Express – Woodside Plaza\, 372 Woodside Rd\, Redwood City\, CA\, 94061\, United States
END:VEVENT
BEGIN:VEVENT
DTSTART;TZID=America/Los_Angeles:20260418T123000
DTEND;TZID=America/Los_Angeles:20260418T143000
DTSTAMP:20260423T180030
CREATED:20260320T000851Z
LAST-MODIFIED:20260416T032413Z
UID:18094-1776515400-1776522600@gsrnc.org
SUMMARY:Danville Adoption Day
DESCRIPTION:The following dogs are scheduled to attend this Adoption Day. \nFemales Attending\n  \nAthena\, born in March 2025 is a large puppy who is friendly to people and other dogs. Her foster home includes dogs\, cats\, and teenagers and she is comfortable with all of them.  Read more… \n \n\nMoney\, born in March 2025\, is a large mix puppy\, growing up in a home filled with kids\, dogs\, and cats. Money greets everyone with a smile and sometimes a handshake. Money is going to be large and needs good direction. She’s well socialized\, house-trained\, and sleeps in a crate.  Read more… \n \n  \nMales Attending\nOne-year-old Ace is fun loving and playful and has an oh so sweet temperament. He’s ready for whatever you want to do. He’ll play quietly with his toys and entertain you as he throws his Kong up in the air and tries to catch it as he bounces it around on the floor. Or go for a 3 mile walk\, let’s go! He would make a good walking or jogging partner. Then kick back and watch TV\, he enjoys that too. He wants to join you in whatever you are doing. Read more… \n \n\nScar is a handsome\, 1-1/2 year old\, 90+ lb lap dog. He is well-behaved in the house\, potty-trained\, and can be left alone loose for a few hours (so far). He rides well in the car\, barks only occasionally\, and only chews on his toys. \nHe has knowledge of the commands: “come”\, “sit’\, ‘down”\, “out”\, “leash’\, and knows his name. Read more…
URL:https://gsrnc.org/event/danville-adoption-day-april-2026/
LOCATION:Pet Food Express – San Ramon Valley Blvd\, 609 San Ramon Valley Blvd\, Danville\, CA\, 94526\, United States
END:VEVENT
BEGIN:VEVENT
DTSTART;TZID=America/Los_Angeles:20260425T110000
DTEND;TZID=America/Los_Angeles:20260425T130000
DTSTAMP:20260423T180030
CREATED:20260325T210030Z
LAST-MODIFIED:20260423T173832Z
UID:18099-1777114800-1777122000@gsrnc.org
SUMMARY:San Jose Adoption Day
DESCRIPTION:The following dogs are scheduled to attend this Adoption Day. \nFemales Attending\nAkira is a delight through and through: All 80 pounds of her. Her main goal in life is to be a good companion and attached to her people. She is a puppy at heart; she gleefully plays ball games and prances around the yard and even plays nicely with some other pups. Her on- leash work needs some refinement but she listens and verbal corrections are usually enough. She is a calm\, easy going dog who greets people gently and appropriately and is not reactive with other dogs unless provoked. Akira has moderate prey drive\, as observed with squirrels\, birds and rabbits. Read more… \n \n\nCharley is a normal puppy with normal puppy behavior. Charley is not aggressive in any way\, and loves to snuggle in various pretzel positions. She responds well to being in her crate with a nice soft bone\, and can sit nicely while being presented with her food. She takes treats nicely. Charley plays well with her two foster siblings\, and takes direction from them appropriately. She likes toys and plays with them\, but does not yet seek them out. Read more… \n \n\nGuten Tag (Hello in German) \nI am Josie\, a very smart\, 70 lbs.\, three-year-old girl\, with classic GSD coloring. \nMy fosters have been very patient with me. When they have guests\, I love to meet and play with them. Read more… \n \n\nMira‘s fosters decribe her as a wonderful\, affectionate companion\, whs is playful\, curious\, and loyal. She is good in the house and able to be left alone for several hours without making any kind of mess or noise. She sleeps on her bed at night. She is curious with strangers and joyful with children. She can be a little excited around other dogs. She has good basic obdience skills and is ready to find her new home. Read more… \n \n 
URL:https://gsrnc.org/event/san-jose-adoption-day-april-2026/
LOCATION:Pet Food Express – Blossom Hill Rd\, 1152 Blossom Hill Rd\, San Jose\, CA\, 95118\, United States
END:VEVENT
BEGIN:VEVENT
DTSTART;TZID=America/Los_Angeles:20260509T110000
DTEND;TZID=America/Los_Angeles:20260509T130000
DTSTAMP:20260423T180030
CREATED:20260409T040014Z
LAST-MODIFIED:20260409T040014Z
UID:18108-1778324400-1778331600@gsrnc.org
SUMMARY:Redwood City Adoption Day
DESCRIPTION:Check back later for a list of attending dogs. We usually post them several days before the Adoption Day.
URL:https://gsrnc.org/event/redwood-city-adoption-day-may-2026/
LOCATION:Pet Food Express – Woodside Plaza\, 372 Woodside Rd\, Redwood City\, CA\, 94061\, United States
END:VEVENT
BEGIN:VEVENT
DTSTART;TZID=America/Los_Angeles:20260516T123000
DTEND;TZID=America/Los_Angeles:20260516T143000
DTSTAMP:20260423T180030
CREATED:20260415T201336Z
LAST-MODIFIED:20260415T201336Z
UID:18110-1778934600-1778941800@gsrnc.org
SUMMARY:Danville Adoption Day
DESCRIPTION:Check back later for a list of attending dogs. We usually post them several days before the Adoption Day.
URL:https://gsrnc.org/event/danville-adoption-day-may-2026/
LOCATION:Pet Food Express – San Ramon Valley Blvd\, 609 San Ramon Valley Blvd\, Danville\, CA\, 94526\, United States
END:VEVENT
BEGIN:VEVENT
DTSTART;TZID=America/Los_Angeles:20260523T110000
DTEND;TZID=America/Los_Angeles:20260523T130000
DTSTAMP:20260423T180030
CREATED:20260423T144838Z
LAST-MODIFIED:20260423T144838Z
UID:18119-1779534000-1779541200@gsrnc.org
SUMMARY:San Jose Adoption Day
DESCRIPTION:Check back later for a list of attending dogs. We usually post them several days before the Adoption Day.
URL:https://gsrnc.org/event/san-jose-adoption-day-may-2026/
LOCATION:Pet Food Express – Blossom Hill Rd\, 1152 Blossom Hill Rd\, San Jose\, CA\, 95118\, United States
END:VEVENT
END:VCALENDAR